BEGIN:VCALENDAR
VERSION:2.0
PRODID:-//Maple Ridge/Pitt Meadows Community Services - ECPv6.15.9//NONSGML v1.0//EN
CALSCALE:GREGORIAN
METHOD:PUBLISH
X-ORIGINAL-URL:https://www.comservice.bc.ca
X-WR-CALDESC:Events for Maple Ridge/Pitt Meadows Community Services
REFRESH-INTERVAL;VALUE=DURATION:PT1H
X-Robots-Tag:noindex
X-PUBLISHED-TTL:PT1H
BEGIN:VTIMEZONE
TZID:UTC
BEGIN:STANDARD
TZOFFSETFROM:+0000
TZOFFSETTO:+0000
TZNAME:UTC
DTSTART:20250101T000000
END:STANDARD
END:VTIMEZONE
BEGIN:VEVENT
DTSTART;TZID=UTC:20260401T000000
DTEND;TZID=UTC:20260430T235959
DTSTAMP:20260422T022243
CREATED:20260331T173422Z
LAST-MODIFIED:20260331T173423Z
UID:7791-1775001600-1777593599@www.comservice.bc.ca
SUMMARY:Sexual Assault Awareness Month
DESCRIPTION:This month\, we stand with survivors and recognize that everyone deserves safety\, dignity\, and support. \n\nSexual violence can affect anyone\, and healing looks different for every person. \n\nOur Sexual Assault Support Services Program offers confidential\, compassionate support to individuals impacted by sexual violence. Support is available to people of all genders and backgrounds\, whether the experience is recent or from the past. \n\nYour consent matters. Every time. \n\nYou are not alone\, and help is available. \n\nLearn more by visiting our website https://www.comservice.bc.ca/programs-services/sexual-assault-support-services/ \n\nor reaching out directly or confidential support when you’re ready. 💜
URL:https://www.comservice.bc.ca/event/sexual-assault-awareness-month/
ATTACH;FMTTYPE=image/png:https://www.comservice.bc.ca/wp-content/uploads/2026/03/APR-1-30-Sexual-Assault-Awareness-Month.png
END:VEVENT
BEGIN:VEVENT
DTSTART;TZID=UTC:20260419T000000
DTEND;TZID=UTC:20260425T235959
DTSTAMP:20260422T022243
CREATED:20260331T174336Z
LAST-MODIFIED:20260331T174338Z
UID:7804-1776556800-1777161599@www.comservice.bc.ca
SUMMARY:Volunteer Appreciation Week
DESCRIPTION:Thank you to all the amazing volunteers at Maple Ridge Pitt Meadows Community Services. \n\nYour kindness\, dedication\, and generosity make a meaningful difference in our community every single day. \n\nWhether you’re lending a helping hand\, offering support\, or showing up with a smile\, we see you\, and we truly appreciate you. \n\nOur community is stronger because of YOU.
URL:https://www.comservice.bc.ca/event/volunteer-appreciation-week/
ATTACH;FMTTYPE=image/png:https://www.comservice.bc.ca/wp-content/uploads/2026/03/APR-19-25-Volunteer-Appreciation-Week.png
END:VEVENT
BEGIN:VEVENT
DTSTART;TZID=UTC:20260419T000000
DTEND;TZID=UTC:20260425T235959
DTSTAMP:20260422T022243
CREATED:20260420T171418Z
LAST-MODIFIED:20260420T171420Z
UID:7901-1776556800-1777161599@www.comservice.bc.ca
SUMMARY:Prevention of Violence Against Women
DESCRIPTION:Prevention of Violence Against Women Week (April 19–25) is a time to reflect\, learn\, and take action. \n\nThis week\, we honour survivors\, amplify their voices\, and recommit to building a culture rooted in respect\, safety\, and equality. \n\nEach of us has a role to play. Whether it’s speaking up\, supporting local organizations\, challenging harmful attitudes\, or educating ourselves and others\, small actions matter. \n\nLet’s stand together to create safer communities where everyone can live free from violence.
URL:https://www.comservice.bc.ca/event/prevention-of-violence-against-women/
ATTACH;FMTTYPE=image/png:https://www.comservice.bc.ca/wp-content/uploads/2026/04/APR-19-25-Prevention-of-Violence-Against-Women.png
END:VEVENT
BEGIN:VEVENT
DTSTART;TZID=UTC:20260422T000000
DTEND;TZID=UTC:20260422T235959
DTSTAMP:20260422T022243
CREATED:20260331T174802Z
LAST-MODIFIED:20260331T174803Z
UID:7806-1776816000-1776902399@www.comservice.bc.ca
SUMMARY:Earth Day
DESCRIPTION:Happy Earth Day! 🌎 \n\nToday we’re showing a little extra love to our favourite planet. Whether it’s reusing\, recycling\, planting\, walking\, or just soaking up some fresh air\, every small action helps. \n\nTaking care of our planet is always in season. 💚
URL:https://www.comservice.bc.ca/event/earth-day/
ATTACH;FMTTYPE=image/png:https://www.comservice.bc.ca/wp-content/uploads/2026/03/APR-22-Earth-Day.png
END:VEVENT
BEGIN:VEVENT
DTSTART;TZID=UTC:20260423T153000
DTEND;TZID=UTC:20260423T170000
DTSTAMP:20260422T022243
CREATED:20260407T183739Z
LAST-MODIFIED:20260407T183740Z
UID:7841-1776958200-1776963600@www.comservice.bc.ca
SUMMARY:Foundry - Mind Over Matter (Anxiety Support Group)
DESCRIPTION:We are excited to introduce the Mind over Matter Anxiety group\, a 6-week group to explore your anxiety\, notice what triggers it\, and practice ways to manage it. Learn tools to feel calmer\, more confident\, and supported while hanging out with others who understand what you are navigating. \n\n\n\nStarting April 23rd until May 28th. Our facilitators Chloe who is one of our peer support workers\, and Meghan who is our youth drop in counsellor\, are excited to run this group. If you are interested in learning more or interested In signing up to do the pre-screener for the group to see if the group is a good fit for your needs please feel free to call Foundry Ridge Meadows at (604) 380-3133 or email mcoops@mrpmcs.ca.
URL:https://www.comservice.bc.ca/event/foundry-mind-over-matter-anxiety-support-group/
LOCATION:Foundry Ridge Meadows\, 22932 Lougheed Hwy. #2\, Maple Ridge\, British Columbia\, V2X 2W2\, Canada
ATTACH;FMTTYPE=image/png:https://www.comservice.bc.ca/wp-content/uploads/2026/04/Mind-or-Matter-Post-2.png
END:VEVENT
BEGIN:VEVENT
DTSTART;TZID=UTC:20260427T150000
DTEND;TZID=UTC:20260427T170000
DTSTAMP:20260422T022243
CREATED:20260227T185353Z
LAST-MODIFIED:20260227T185354Z
UID:7556-1777302000-1777309200@www.comservice.bc.ca
SUMMARY:Free Tax Session - Foundry
DESCRIPTION:💼💰 FREE Tax Sessions (Ages 12–24)You might still qualify for tax credits — even if you didn’t work last year!📅 April dates available — book early to secure your spot. \n\nTo book your spot\, email foundrywork@mrpmcs.ca or call us at (604) 380-3133
URL:https://www.comservice.bc.ca/event/free-tax-session-foundry-4/
LOCATION:Foundry Ridge Meadows\, 22932 Lougheed Hwy. #2\, Maple Ridge\, British Columbia\, V2X 2W2\, Canada
CATEGORIES:Foundry Ridge Meadows
ATTACH;FMTTYPE=image/png:https://www.comservice.bc.ca/wp-content/uploads/2026/02/Tax-Session-.png
END:VEVENT
BEGIN:VEVENT
DTSTART;TZID=UTC:20260428T000000
DTEND;TZID=UTC:20260428T235959
DTSTAMP:20260422T022243
CREATED:20260331T174918Z
LAST-MODIFIED:20260331T174919Z
UID:7808-1777334400-1777420799@www.comservice.bc.ca
SUMMARY:National Day of Mourning
DESCRIPTION:The Day of Mourning is a time to remember and honour the lives lost or injured due to workplace tragedies. Behind each loss is a family and a community forever changed. \n\nIt is also an opportunity to collectively renew our commitment to improving health and safety in every workplace and to prevent further injuries\, illnesses\, and deaths. \n\nTogether\, we commit to looking out for one another and working toward safer work environments for all.
URL:https://www.comservice.bc.ca/event/national-day-of-mourning/
ATTACH;FMTTYPE=image/png:https://www.comservice.bc.ca/wp-content/uploads/2026/03/APR-28-National-Day-of-Mourning.png
END:VEVENT
BEGIN:VEVENT
DTSTART;TZID=UTC:20260428T173000
DTEND;TZID=UTC:20260428T193000
DTSTAMP:20260422T022243
CREATED:20260320T172834Z
LAST-MODIFIED:20260320T175544Z
UID:7689-1777397400-1777404600@www.comservice.bc.ca
SUMMARY:Daddy & Me - The Early Years (session)
DESCRIPTION:The Daddy & Me program is a drop-in program for dads and male caregivers that provide a safe and fun environment to interact with their children 0-5 years old and receive parenting information geared towards dads. \n\nJoin us for a free session on Tuesday\, April 28th.  Dinner is provided. \n\nTo register\, please call (604) 467-6911 or email daddyandme@mrpmcs.ca
URL:https://www.comservice.bc.ca/event/daddy-me-the-early-years-session-47/
LOCATION:Family Place\, 22768 119th Ave (back entrance)\, Maple Ridge\, V2X 4L2\, Canada
ATTACH;FMTTYPE=image/png:https://www.comservice.bc.ca/wp-content/uploads/2026/03/Daddy-Me-print-Early-years-Spring-2026.png
END:VEVENT
BEGIN:VEVENT
DTSTART;TZID=UTC:20260428T180000
DTEND;TZID=UTC:20260428T193000
DTSTAMP:20260422T022243
CREATED:20260320T193833Z
LAST-MODIFIED:20260320T193834Z
UID:7716-1777399200-1777404600@www.comservice.bc.ca
SUMMARY:Daddy & Me - The Middle Years (session)
DESCRIPTION:The Daddy & Me program is a drop-in program for dads and male caregivers that provide a safe and fun environment to interact with their children 6-12 years old and receive parenting information geared towards dads. \n\nJoin us for a free session on Tuesday\, April 28th\, where will be participating in gym activities and have light snacks available. \n\nTo register\, please call (604) 467-6911 or email daddyandme@mrpmcs.ca
URL:https://www.comservice.bc.ca/event/daddy-me-the-middle-years-session-19/
LOCATION:Maple Ridge Leisure Centre\, 11925 Haney Pl\, Maple Ridge\, British Columbia\, V2X 6G2\, Canada
ATTACH;FMTTYPE=image/png:https://www.comservice.bc.ca/wp-content/uploads/2023/09/Daddy-Me-print-Early-years-Spring-2026-1.png
END:VEVENT
BEGIN:VEVENT
DTSTART;TZID=UTC:20260429T160000
DTEND;TZID=UTC:20260429T170000
DTSTAMP:20260422T022243
CREATED:20260414T182123Z
LAST-MODIFIED:20260414T182125Z
UID:7878-1777478400-1777482000@www.comservice.bc.ca
SUMMARY:Restorative Justice - Choices (free workshop)
DESCRIPTION:Join us for Choices\, a free eight-week workshop with Restorative Justice for those who may be at greater risk of being involved in the justice system\, or who are already in the justice system. \n\nSessions revolve around a restorative lens with topics such as values\, choices\, healthy relationships\, communication\, safety\, and more. Youth will benefit by building social and community connections\, increasing their awareness of self and personal triggers\, improving coping skills\, decision making\, and conflict resolution. \n\nThese workshops run every Wednesday\, 4:00 – 5:00pm from April 29th to June 17th. \n\nTo pre-register\, contact (604) 467-6911 ext. 1159 or email restorativejustice@mrpmcs.ca.
URL:https://www.comservice.bc.ca/event/restorative-justice-choices-free-workshop/
LOCATION:Maple Ridge/Pitt Meadows Community Services\, 22768 119th Ave\, Maple Ridge\, British Columbia\, V2X 4L2\, Canada
ATTACH;FMTTYPE=image/jpeg:https://www.comservice.bc.ca/wp-content/uploads/2023/09/April-June-Choices-Program-002.jpg
END:VEVENT
BEGIN:VEVENT
DTSTART;TZID=UTC:20260430T153000
DTEND;TZID=UTC:20260430T170000
DTSTAMP:20260422T022243
CREATED:20260407T183936Z
LAST-MODIFIED:20260407T183937Z
UID:7844-1777563000-1777568400@www.comservice.bc.ca
SUMMARY:Foundry - Mind Over Matter (Anxiety Support Group)
DESCRIPTION:We are excited to introduce the Mind over Matter Anxiety group\, a 6-week group to explore your anxiety\, notice what triggers it\, and practice ways to manage it. Learn tools to feel calmer\, more confident\, and supported while hanging out with others who understand what you are navigating. \n\n\n\nStarting April 23rd until May 28th. Our facilitators Chloe who is one of our peer support workers\, and Meghan who is our youth drop in counsellor\, are excited to run this group. If you are interested in learning more or interested In signing up to do the pre-screener for the group to see if the group is a good fit for your needs please feel free to call Foundry Ridge Meadows at (604) 380-3133 or email mcoops@mrpmcs.ca
URL:https://www.comservice.bc.ca/event/foundry-mind-over-matter-anxiety-support-group-2/
LOCATION:Foundry Ridge Meadows\, 22932 Lougheed Hwy. #2\, Maple Ridge\, British Columbia\, V2X 2W2\, Canada
CATEGORIES:Foundry Ridge Meadows
ATTACH;FMTTYPE=image/png:https://www.comservice.bc.ca/wp-content/uploads/2026/04/Mind-or-Matter-Post-2.png
END:VEVENT
END:VCALENDAR