BEGIN:VCALENDAR
VERSION:2.0
PRODID:-//Maple Ridge/Pitt Meadows Community Services - ECPv6.15.9//NONSGML v1.0//EN
CALSCALE:GREGORIAN
METHOD:PUBLISH
X-ORIGINAL-URL:https://www.comservice.bc.ca
X-WR-CALDESC:Events for Maple Ridge/Pitt Meadows Community Services
REFRESH-INTERVAL;VALUE=DURATION:PT1H
X-Robots-Tag:noindex
X-PUBLISHED-TTL:PT1H
BEGIN:VTIMEZONE
TZID:UTC
BEGIN:STANDARD
TZOFFSETFROM:+0000
TZOFFSETTO:+0000
TZNAME:UTC
DTSTART:20240101T000000
END:STANDARD
END:VTIMEZONE
BEGIN:VEVENT
DTSTART;TZID=UTC:20251211T150000
DTEND;TZID=UTC:20251211T163000
DTSTAMP:20260419T170904
CREATED:20251204T183747Z
LAST-MODIFIED:20251204T183748Z
UID:7277-1765465200-1765470600@www.comservice.bc.ca
SUMMARY:Eating and the Holidays (foundry event)
DESCRIPTION:❄️🎄Eating and the Holidays Workshop🎄❄️ \n\nWe get that eating during the holidays can be a challenging time. Our thoughts about our bodies and food can be at an all time high. It can feel hard to focus on food rather than spending time that time connecting with loved ones.  \n\nJoin our disordered eating clinician Morgan Loewen\, RCC and guest registered dietician Marilee Pumple\, RD to unpack some of the challenges that come with the holidays as well as learn tools to help support you. \n\n🗓 December 11th 3-4:30pm \n\n📍Foundry Ridge Meadows \n\n❄️Contact mloewen@mrpmcs.ca to reserve your spot! 
URL:https://www.comservice.bc.ca/event/eating-and-the-holidays-foundry-event/
LOCATION:Foundry Ridge Meadows\, 22932 Lougheed Hwy. #2\, Maple Ridge\, British Columbia\, V2X 2W2\, Canada
CATEGORIES:Foundry Ridge Meadows
ATTACH;FMTTYPE=image/png:https://www.comservice.bc.ca/wp-content/uploads/2025/12/Eating-and-the-Holidays-IG-post-Instagram-Post.png
END:VEVENT
BEGIN:VEVENT
DTSTART;TZID=UTC:20260304T160000
DTEND;TZID=UTC:20260304T180000
DTSTAMP:20260419T170904
CREATED:20260209T201636Z
LAST-MODIFIED:20260209T201638Z
UID:7502-1772640000-1772647200@www.comservice.bc.ca
SUMMARY:Supporting Youth with ADHD - Caregiver Info Session (Foundry)
DESCRIPTION:Attention Caregivers! Check out our upcoming info session. Call if you have any questions\, registration is not required. \n\nCaring for a young person diagnosed with ADHD can sometimes feel overwhelming. Join our counsellor\, Ivan Reygadas\, BA\, MC Psych\, RCC\, at Foundry Ridge Meadows for an info session designed to help caregivers better understand ADHD\, make sense of their youth’s behaviours\, and learn practical ways to offer support. Expect an evening filled with information and discussion as you gain knowledge\, tools\, and confidence to support your youth with care and clarity.
URL:https://www.comservice.bc.ca/event/supporting-youth-with-adhd-caregiver-info-session-foundry/
LOCATION:Foundry Ridge Meadows\, 22932 Lougheed Hwy. #2\, Maple Ridge\, British Columbia\, V2X 2W2\, Canada
CATEGORIES:Foundry Ridge Meadows
ATTACH;FMTTYPE=image/jpeg:https://www.comservice.bc.ca/wp-content/uploads/2026/02/Supporting-Youth-with-ADHD-Caregiver-Info-Session.jpg
END:VEVENT
BEGIN:VEVENT
DTSTART;TZID=UTC:20260311T160000
DTEND;TZID=UTC:20260311T180000
DTSTAMP:20260419T170904
CREATED:20260227T193105Z
LAST-MODIFIED:20260227T193107Z
UID:7563-1773244800-1773252000@www.comservice.bc.ca
SUMMARY:Supporting Youth Through Anxiety: Caregiver Info Session (Foundry)
DESCRIPTION:💚 Supporting Youth through Anxiety📅 March 11 | 4–6 PMUnderstand anxiety\, how it impacts young people\, and practical tools to help. \n\nThese sessions are open to caregivers of youth aged 12–25.Register: ireygadas@mrpmcs.ca or drop in — we’d love to see you!
URL:https://www.comservice.bc.ca/event/supporting-youth-through-anxiety-caregiver-info-session-foundry-2/
LOCATION:Foundry Ridge Meadows\, 22932 Lougheed Hwy. #2\, Maple Ridge\, British Columbia\, V2X 2W2\, Canada
CATEGORIES:Foundry Ridge Meadows
ATTACH;FMTTYPE=image/png:https://www.comservice.bc.ca/wp-content/uploads/2026/02/Caregiver-Anxiety-Workshop-Insta-Post-3-1.png
END:VEVENT
BEGIN:VEVENT
DTSTART;TZID=UTC:20260407T160000
DTEND;TZID=UTC:20260407T180000
DTSTAMP:20260419T170904
CREATED:20260227T184620Z
LAST-MODIFIED:20260227T185627Z
UID:7549-1775577600-1775584800@www.comservice.bc.ca
SUMMARY:Free Tax Session - Foundry
DESCRIPTION:💼💰 FREE Tax Sessions (Ages 12–24)You might still qualify for tax credits — even if you didn’t work last year!📅 April dates available — book early to secure your spot. \n\nTo book your spot\, email foundrywork@mrpmcs.ca or call us at (604) 380-3133
URL:https://www.comservice.bc.ca/event/free-tax-session-foundry/
LOCATION:Foundry Ridge Meadows\, 22932 Lougheed Hwy. #2\, Maple Ridge\, British Columbia\, V2X 2W2\, Canada
CATEGORIES:Foundry Ridge Meadows
ATTACH;FMTTYPE=image/png:https://www.comservice.bc.ca/wp-content/uploads/2026/02/Tax-Session-.png
END:VEVENT
BEGIN:VEVENT
DTSTART;TZID=UTC:20260413T150000
DTEND;TZID=UTC:20260413T170000
DTSTAMP:20260419T170904
CREATED:20260227T184903Z
LAST-MODIFIED:20260227T184949Z
UID:7552-1776092400-1776099600@www.comservice.bc.ca
SUMMARY:Free Tax Session - Foundry
DESCRIPTION:💼💰 FREE Tax Sessions (Ages 12–24)You might still qualify for tax credits — even if you didn’t work last year!📅 April dates available — book early to secure your spot. \n\nTo book your spot\, email foundrywork@mrpmcs.ca or call us at (604) 380-3133
URL:https://www.comservice.bc.ca/event/free-tax-session-foundry-2/
LOCATION:Foundry Ridge Meadows\, 22932 Lougheed Hwy. #2\, Maple Ridge\, British Columbia\, V2X 2W2\, Canada
CATEGORIES:Foundry Ridge Meadows
ATTACH;FMTTYPE=image/png:https://www.comservice.bc.ca/wp-content/uploads/2026/02/Tax-Session-.png
END:VEVENT
BEGIN:VEVENT
DTSTART;TZID=UTC:20260420T150000
DTEND;TZID=UTC:20260420T170000
DTSTAMP:20260419T170904
CREATED:20260227T185220Z
LAST-MODIFIED:20260227T185222Z
UID:7554-1776697200-1776704400@www.comservice.bc.ca
SUMMARY:Free Tax Session - Foundry
DESCRIPTION:💼💰 FREE Tax Sessions (Ages 12–24)You might still qualify for tax credits — even if you didn’t work last year!📅 April dates available — book early to secure your spot. \n\nTo book your spot\, email foundrywork@mrpmcs.ca or call us at (604) 380-3133
URL:https://www.comservice.bc.ca/event/free-tax-session-foundry-3/
LOCATION:Foundry Ridge Meadows\, 22932 Lougheed Hwy. #2\, Maple Ridge\, British Columbia\, V2X 2W2\, Canada
CATEGORIES:Foundry Ridge Meadows
ATTACH;FMTTYPE=image/png:https://www.comservice.bc.ca/wp-content/uploads/2026/02/Tax-Session-.png
END:VEVENT
BEGIN:VEVENT
DTSTART;TZID=UTC:20260427T150000
DTEND;TZID=UTC:20260427T170000
DTSTAMP:20260419T170904
CREATED:20260227T185353Z
LAST-MODIFIED:20260227T185354Z
UID:7556-1777302000-1777309200@www.comservice.bc.ca
SUMMARY:Free Tax Session - Foundry
DESCRIPTION:💼💰 FREE Tax Sessions (Ages 12–24)You might still qualify for tax credits — even if you didn’t work last year!📅 April dates available — book early to secure your spot. \n\nTo book your spot\, email foundrywork@mrpmcs.ca or call us at (604) 380-3133
URL:https://www.comservice.bc.ca/event/free-tax-session-foundry-4/
LOCATION:Foundry Ridge Meadows\, 22932 Lougheed Hwy. #2\, Maple Ridge\, British Columbia\, V2X 2W2\, Canada
CATEGORIES:Foundry Ridge Meadows
ATTACH;FMTTYPE=image/png:https://www.comservice.bc.ca/wp-content/uploads/2026/02/Tax-Session-.png
END:VEVENT
BEGIN:VEVENT
DTSTART;TZID=UTC:20260430T153000
DTEND;TZID=UTC:20260430T170000
DTSTAMP:20260419T170904
CREATED:20260407T183936Z
LAST-MODIFIED:20260407T183937Z
UID:7844-1777563000-1777568400@www.comservice.bc.ca
SUMMARY:Foundry - Mind Over Matter (Anxiety Support Group)
DESCRIPTION:We are excited to introduce the Mind over Matter Anxiety group\, a 6-week group to explore your anxiety\, notice what triggers it\, and practice ways to manage it. Learn tools to feel calmer\, more confident\, and supported while hanging out with others who understand what you are navigating. \n\n\n\nStarting April 23rd until May 28th. Our facilitators Chloe who is one of our peer support workers\, and Meghan who is our youth drop in counsellor\, are excited to run this group. If you are interested in learning more or interested In signing up to do the pre-screener for the group to see if the group is a good fit for your needs please feel free to call Foundry Ridge Meadows at (604) 380-3133 or email mcoops@mrpmcs.ca
URL:https://www.comservice.bc.ca/event/foundry-mind-over-matter-anxiety-support-group-2/
LOCATION:Foundry Ridge Meadows\, 22932 Lougheed Hwy. #2\, Maple Ridge\, British Columbia\, V2X 2W2\, Canada
CATEGORIES:Foundry Ridge Meadows
ATTACH;FMTTYPE=image/png:https://www.comservice.bc.ca/wp-content/uploads/2026/04/Mind-or-Matter-Post-2.png
END:VEVENT
BEGIN:VEVENT
DTSTART;TZID=UTC:20260507T153000
DTEND;TZID=UTC:20260507T170000
DTSTAMP:20260419T170904
CREATED:20260407T184444Z
LAST-MODIFIED:20260407T184445Z
UID:7846-1778167800-1778173200@www.comservice.bc.ca
SUMMARY:Foundry - Mind Over Matter (Anxiety Support Group)
DESCRIPTION:We are excited to introduce the Mind over Matter Anxiety group\, a 6-week group to explore your anxiety\, notice what triggers it\, and practice ways to manage it. Learn tools to feel calmer\, more confident\, and supported while hanging out with others who understand what you are navigating. \n\n\n\nStarting April 23rd until May 28th. Our facilitators Chloe who is one of our peer support workers\, and Meghan who is our youth drop in counsellor\, are excited to run this group. If you are interested in learning more or interested In signing up to do the pre-screener for the group to see if the group is a good fit for your needs please feel free to call Foundry Ridge Meadows (604) 380-3133 or email mcoops@mrpmcs.ca.
URL:https://www.comservice.bc.ca/event/foundry-mind-over-matter-anxiety-support-group-3/
LOCATION:Foundry Ridge Meadows\, 22932 Lougheed Hwy. #2\, Maple Ridge\, British Columbia\, V2X 2W2\, Canada
CATEGORIES:Foundry Ridge Meadows
ATTACH;FMTTYPE=image/png:https://www.comservice.bc.ca/wp-content/uploads/2026/04/Mind-or-Matter-Post-2.png
END:VEVENT
BEGIN:VEVENT
DTSTART;TZID=UTC:20260514T153000
DTEND;TZID=UTC:20260514T170000
DTSTAMP:20260419T170904
CREATED:20260407T184714Z
LAST-MODIFIED:20260407T184715Z
UID:7848-1778772600-1778778000@www.comservice.bc.ca
SUMMARY:Foundry - Mind Over Matter (Anxiety Support Group)
DESCRIPTION:We are excited to introduce the Mind over Matter Anxiety group\, a 6-week group to explore your anxiety\, notice what triggers it\, and practice ways to manage it. Learn tools to feel calmer\, more confident\, and supported while hanging out with others who understand what you are navigating. \n\n\n\nStarting April 23rd until May 28th. Our facilitators Chloe who is one of our peer support workers\, and Meghan who is our youth drop in counsellor\, are excited to run this group. If you are interested in learning more or interested In signing up to do the pre-screener for the group to see if the group is a good fit for your needs\, please feel free to call Foundry Ridge Meadows (604) 380-3133 or email mcoops@mrpmcs.ca
URL:https://www.comservice.bc.ca/event/foundry-mind-over-matter-anxiety-support-group-4/
LOCATION:Foundry Ridge Meadows\, 22932 Lougheed Hwy. #2\, Maple Ridge\, British Columbia\, V2X 2W2\, Canada
CATEGORIES:Foundry Ridge Meadows
ATTACH;FMTTYPE=image/png:https://www.comservice.bc.ca/wp-content/uploads/2026/04/Mind-or-Matter-Post-2.png
END:VEVENT
BEGIN:VEVENT
DTSTART;TZID=UTC:20260520T153000
DTEND;TZID=UTC:20260520T170000
DTSTAMP:20260419T170904
CREATED:20260407T183440Z
LAST-MODIFIED:20260407T183441Z
UID:7837-1779291000-1779296400@www.comservice.bc.ca
SUMMARY:Foundry - Building Better Sleep Workshop (Youth)
DESCRIPTION:Struggling to get enough sleep\, or just tired of feeling tired? You’re not alone. Join occupational therapist\, Claire Atkinson for a workshop that explains how sleep works\, things that make it tough to get a good night’s sleep\, and what you can do to improve it. As an occupational therapist\, Claire helps with building healthy habits\, managing daily routines\, and developing practical strategies to support overall well‑being. Join us to learn strategies to help you feel more refreshed\, focused\, and ready to take on the day. \n\nTo register\, please contact (604) 380-3133 or foundry@mrpmcs.ca
URL:https://www.comservice.bc.ca/event/foundry-building-better-sleep-workshop-youth/
LOCATION:Foundry Ridge Meadows\, 22932 Lougheed Hwy. #2\, Maple Ridge\, British Columbia\, V2X 2W2\, Canada
CATEGORIES:Foundry Ridge Meadows
ATTACH;FMTTYPE=image/png:https://www.comservice.bc.ca/wp-content/uploads/2026/04/YOUTH-6.png
END:VEVENT
BEGIN:VEVENT
DTSTART;TZID=UTC:20260521T153000
DTEND;TZID=UTC:20260521T170000
DTSTAMP:20260419T170904
CREATED:20260407T185015Z
LAST-MODIFIED:20260407T185016Z
UID:7850-1779377400-1779382800@www.comservice.bc.ca
SUMMARY:Foundry - Mind Over Matter (Anxiety Support Group)
DESCRIPTION:We are excited to introduce the Mind over Matter Anxiety group\, a 6-week group to explore your anxiety\, notice what triggers it\, and practice ways to manage it. Learn tools to feel calmer\, more confident\, and supported while hanging out with others who understand what you are navigating. \n\n\n\nStarting April 23rd until May 28th. Our facilitators Chloe who is one of our peer support workers\, and Meghan who is our youth drop in counsellor\, are excited to run this group. If you are interested in learning more or interested In signing up to do the pre-screener for the group to see if the group is a good fit for your needs please feel free to call Foundry Ridge Meadows (604) 380-3133 or email mcoops@mrpmcs.ca
URL:https://www.comservice.bc.ca/event/foundry-mind-over-matter-anxiety-support-group-5/
LOCATION:Foundry Ridge Meadows\, 22932 Lougheed Hwy. #2\, Maple Ridge\, British Columbia\, V2X 2W2\, Canada
CATEGORIES:Foundry Ridge Meadows
ATTACH;FMTTYPE=image/png:https://www.comservice.bc.ca/wp-content/uploads/2026/04/Mind-or-Matter-Post-2.png
END:VEVENT
BEGIN:VEVENT
DTSTART;TZID=UTC:20260527T170000
DTEND;TZID=UTC:20260527T183000
DTSTAMP:20260419T170904
CREATED:20260407T175102Z
LAST-MODIFIED:20260407T183505Z
UID:7834-1779901200-1779906600@www.comservice.bc.ca
SUMMARY:Foundry - Building Better Sleep Workshop (Parents/Caregivers)
DESCRIPTION:Is your youth struggling to get enough sleep\, or just tired of feeling tired? You’re not alone. Join occupational therapist\, Claire Atkinson for a workshop that explains how sleep works\, things that make it tough to get a good night’s sleep\, and what you can do to help improve it. As an occupational therapist\, Claire helps with building healthy habits\, managing daily routines\, and developing practical strategies to support overall well‑being. Join us to learn strategies to help your young person feel more refreshed\, focused\, and ready to take on the day. \n\nTo register\, please contact (604) 380-3133 or foundry@mrpmcs.ca
URL:https://www.comservice.bc.ca/event/foundry-building-better-sleep-workshop-3/
LOCATION:Foundry Ridge Meadows\, 22932 Lougheed Hwy. #2\, Maple Ridge\, British Columbia\, V2X 2W2\, Canada
CATEGORIES:Foundry Ridge Meadows
ATTACH;FMTTYPE=image/png:https://www.comservice.bc.ca/wp-content/uploads/2026/04/Parents-and-Caregivers-4.png
END:VEVENT
BEGIN:VEVENT
DTSTART;TZID=UTC:20260528T153000
DTEND;TZID=UTC:20260528T170000
DTSTAMP:20260419T170904
CREATED:20260407T185210Z
LAST-MODIFIED:20260407T185211Z
UID:7852-1779982200-1779987600@www.comservice.bc.ca
SUMMARY:Foundry - Mind Over Matter (Anxiety Support Group)
DESCRIPTION:We are excited to introduce the Mind over Matter Anxiety group\, a 6-week group to explore your anxiety\, notice what triggers it\, and practice ways to manage it. Learn tools to feel calmer\, more confident\, and supported while hanging out with others who understand what you are navigating. \n\nStarting April 23rd until May 28th. Our facilitators Chloe who is one of our peer support workers\, and Meghan who is our youth drop in counsellor\, are excited to run this group. If you are interested in learning more or interested In signing up to do the pre-screener for the group to see if the group is a good fit for your needs please feel free to call Foundry Ridge Meadows at (604) 380-3133 or email mcoops@mrpmcs.ca.
URL:https://www.comservice.bc.ca/event/foundry-mind-over-matter-anxiety-support-group-6/
LOCATION:Foundry Ridge Meadows\, 22932 Lougheed Hwy. #2\, Maple Ridge\, British Columbia\, V2X 2W2\, Canada
CATEGORIES:Foundry Ridge Meadows
ATTACH;FMTTYPE=image/png:https://www.comservice.bc.ca/wp-content/uploads/2026/04/Mind-or-Matter-Post-2.png
END:VEVENT
END:VCALENDAR