BEGIN:VCALENDAR
VERSION:2.0
PRODID:-//Maple Ridge/Pitt Meadows Community Services - ECPv6.15.9//NONSGML v1.0//EN
CALSCALE:GREGORIAN
METHOD:PUBLISH
X-ORIGINAL-URL:https://www.comservice.bc.ca
X-WR-CALDESC:Events for Maple Ridge/Pitt Meadows Community Services
REFRESH-INTERVAL;VALUE=DURATION:PT1H
X-Robots-Tag:noindex
X-PUBLISHED-TTL:PT1H
BEGIN:VTIMEZONE
TZID:UTC
BEGIN:STANDARD
TZOFFSETFROM:+0000
TZOFFSETTO:+0000
TZNAME:UTC
DTSTART:20240101T000000
END:STANDARD
END:VTIMEZONE
BEGIN:VEVENT
DTSTART;TZID=UTC:20251002T153000
DTEND;TZID=UTC:20251002T170000
DTSTAMP:20260419T135200
CREATED:20250929T185339Z
LAST-MODIFIED:20250929T185340Z
UID:6968-1759419000-1759424400@www.comservice.bc.ca
SUMMARY:Foundry - Dungeons & Dragons
DESCRIPTION:Calling adventurers ages 16–24! A new D&D group launches October 2 and runs Thursdays. A few spots are still open—grab your dice and your imagination. \n\nTo register\, contact Foundry at (604) 380-3133
URL:https://www.comservice.bc.ca/event/foundry-dungeons-dragons/
LOCATION:Foundry Ridge Meadows\, 22932 Lougheed Hwy. #2\, Maple Ridge\, British Columbia\, V2X 2W2\, Canada
CATEGORIES:Foundry Ridge Meadows
ATTACH;FMTTYPE=image/png:https://www.comservice.bc.ca/wp-content/uploads/2025/09/D-n-D.png
END:VEVENT
BEGIN:VEVENT
DTSTART;TZID=UTC:20251007T160000
DTEND;TZID=UTC:20251007T180000
DTSTAMP:20260419T135200
CREATED:20250911T202839Z
LAST-MODIFIED:20250911T202840Z
UID:6785-1759852800-1759860000@www.comservice.bc.ca
SUMMARY:Foundry - Money 101 (workshop)
DESCRIPTION:🌟 Money Skills Workshop Series \n\n💸 Want to take control of your money?Foundry Work & Education\, in partnership with Coast Capital\, is bringing you a Money Skills Workshop Series! \n\n📅 Upcoming Sessions: \n\n\n	Oct 7 – Money 101\n\n	Oct 21 – Mastering Debt\n\n	Nov 4 – Creating Your Money Plan\n\n	Nov 18 – Smart Spending\n\n\n✨ Learn how to budget\, avoid debt traps\, and make your money work for YOU.✔ Get real-life tips and tools you can use every day.📜 Attend all 4 sessions and earn a Financial Literacy Training Certificate to boost your resume! \n\n👉 Register now by contacting Foundry Ridge Meadows at (604) 380-3133 or foundrywork@mrpmcs.ca
URL:https://www.comservice.bc.ca/event/foundry-money-101-workshop/
LOCATION:Foundry Ridge Meadows\, 22932 Lougheed Hwy. #2\, Maple Ridge\, British Columbia\, V2X 2W2\, Canada
CATEGORIES:Foundry Ridge Meadows
ATTACH;FMTTYPE=image/png:https://www.comservice.bc.ca/wp-content/uploads/2025/09/Money-Skills-Series-with-Coast-Capital.png
END:VEVENT
BEGIN:VEVENT
DTSTART;TZID=UTC:20251009T160000
DTEND;TZID=UTC:20251009T173000
DTSTAMP:20260419T135200
CREATED:20250904T180857Z
LAST-MODIFIED:20250904T180858Z
UID:6680-1760025600-1760031000@www.comservice.bc.ca
SUMMARY:Foundry - Disordered Eating Group (session)
DESCRIPTION:Disordered Eating Group: \n\nDoes this sound like you?  \n\n“I struggle knowing when I feel hungry and/or full” \n\n“I have a hard time feeling comfortable in my body” \n\n“I feel anxious about eating” \n\nIf this sounds like you\, we would love to welcome you to our group! In this 6-week group\, we will unpack the nuances of disordered eating\, food and nutrition\, and body image. Our hope is that this will be a space where you can connect with others\, feel less alone\, and have some tools to start your food and body acceptance journey.  \n\nWho: Youthages 14-17 or 18-24 \n\nWhen: Thursdays\, Oct 9th – Nov 13th \n\nContact ischafli@mrpmcs.ca for more info and registration
URL:https://www.comservice.bc.ca/event/foundry-disordered-eating-group-session/
LOCATION:Foundry Ridge Meadows\, 22932 Lougheed Hwy. #2\, Maple Ridge\, British Columbia\, V2X 2W2\, Canada
CATEGORIES:Foundry Ridge Meadows
ATTACH;FMTTYPE=image/png:https://www.comservice.bc.ca/wp-content/uploads/2025/09/Untitled-design-28.png
END:VEVENT
BEGIN:VEVENT
DTSTART;TZID=UTC:20251016T160000
DTEND;TZID=UTC:20251016T173000
DTSTAMP:20260419T135200
CREATED:20250904T181231Z
LAST-MODIFIED:20250904T181232Z
UID:6682-1760630400-1760635800@www.comservice.bc.ca
SUMMARY:Foundry - Disordered Eating Group (session)
DESCRIPTION:Disordered Eating Group: \n\nDoes this sound like you?  \n\n“I struggle knowing when I feel hungry and/or full” \n\n“I have a hard time feeling comfortable in my body” \n\n“I feel anxious about eating” \n\nIf this sounds like you\, we would love to welcome you to our group! In this 6-week group\, we will unpack the nuances of disordered eating\, food and nutrition\, and body image. Our hope is that this will be a space where you can connect with others\, feel less alone\, and have some tools to start your food and body acceptance journey.  \n\nWho: youth ages 14-17 or 18-24 \n\nWhen: Thursdays\, Oct 9th – Nov 13th \n\nContact ischafli@mrpmcs.ca for more info and registration
URL:https://www.comservice.bc.ca/event/foundry-disordered-eating-group-session-2/
LOCATION:Foundry Ridge Meadows\, 22932 Lougheed Hwy. #2\, Maple Ridge\, British Columbia\, V2X 2W2\, Canada
CATEGORIES:Foundry Ridge Meadows
ATTACH;FMTTYPE=image/png:https://www.comservice.bc.ca/wp-content/uploads/2025/09/Untitled-design-28.png
END:VEVENT
BEGIN:VEVENT
DTSTART;TZID=UTC:20251021T160000
DTEND;TZID=UTC:20251021T180000
DTSTAMP:20260419T135200
CREATED:20250911T202946Z
LAST-MODIFIED:20250911T202947Z
UID:6788-1761062400-1761069600@www.comservice.bc.ca
SUMMARY:Foundry - Mastering Debt (workshop)
DESCRIPTION:🌟 Money Skills Workshop Series \n\n💸 Want to take control of your money?Foundry Work & Education\, in partnership with Coast Capital\, is bringing you a Money Skills Workshop Series! \n\n📅 Upcoming Sessions: \n\n\n	Oct 7 – Money 101\n\n	Oct 21 – Mastering Debt\n\n	Nov 4 – Creating Your Money Plan\n\n	Nov 18 – Smart Spending\n\n\n✨ Learn how to budget\, avoid debt traps\, and make your money work for YOU.✔ Get real-life tips and tools you can use every day.📜 Attend all 4 sessions and earn a Financial Literacy Training Certificate to boost your resume! \n\n👉 Register now by contacting Foundry Ridge Meadows at (604) 380-3133 or foundrywork@mrpmcs.ca
URL:https://www.comservice.bc.ca/event/foundry-mastering-debt-workshop/
LOCATION:Foundry Ridge Meadows\, 22932 Lougheed Hwy. #2\, Maple Ridge\, British Columbia\, V2X 2W2\, Canada
CATEGORIES:Foundry Ridge Meadows
ATTACH;FMTTYPE=image/png:https://www.comservice.bc.ca/wp-content/uploads/2025/09/Money-Skills-Series-with-Coast-Capital.png
END:VEVENT
BEGIN:VEVENT
DTSTART;TZID=UTC:20251023T160000
DTEND;TZID=UTC:20251023T173000
DTSTAMP:20260419T135200
CREATED:20250904T181413Z
LAST-MODIFIED:20250904T181414Z
UID:6684-1761235200-1761240600@www.comservice.bc.ca
SUMMARY:Foundry - Disordered Eating Group
DESCRIPTION:Disordered Eating Group: \n\nDoes this sound like you?  \n\n“I struggle knowing when I feel hungry and/or full” \n\n“I have a hard time feeling comfortable in my body” \n\n“I feel anxious about eating” \n\nIf this sounds like you\, we would love to welcome you to our group! In this 6-week group\, we will unpack the nuances of disordered eating\, food and nutrition\, and body image. Our hope is that this will be a space where you can connect with others\, feel less alone\, and have some tools to start your food and body acceptance journey.  \n\nWho: youth ages 14-17 or 18-24 \n\nWhen: Thursdays\, Oct 9th – Nov 13th \n\nContact ischafli@mrpmcs.ca for more info and registration
URL:https://www.comservice.bc.ca/event/foundry-disordered-eating-group/
LOCATION:Foundry Ridge Meadows\, 22932 Lougheed Hwy. #2\, Maple Ridge\, British Columbia\, V2X 2W2\, Canada
CATEGORIES:Foundry Ridge Meadows
ATTACH;FMTTYPE=image/png:https://www.comservice.bc.ca/wp-content/uploads/2025/09/Untitled-design-28.png
END:VEVENT
BEGIN:VEVENT
DTSTART;TZID=UTC:20251030T160000
DTEND;TZID=UTC:20251030T173000
DTSTAMP:20260419T135200
CREATED:20250904T181548Z
LAST-MODIFIED:20250904T181549Z
UID:6686-1761840000-1761845400@www.comservice.bc.ca
SUMMARY:Foundry - Disordered Eating Group (session)
DESCRIPTION:Disordered Eating Group: \n\nDoes this sound like you?  \n\n“I struggle knowing when I feel hungry and/or full” \n\n“I have a hard time feeling comfortable in my body” \n\n“I feel anxious about eating” \n\nIf this sounds like you\, we would love to welcome you to our group! In this 6-week group\, we will unpack the nuances of disordered eating\, food and nutrition\, and body image. Our hope is that this will be a space where you can connect with others\, feel less alone\, and have some tools to start your food and body acceptance journey.  \n\nWho: youth ages 14-17 or 18-24 \n\nWhen: Thursdays\, Oct 9th – Nov 13th \n\nContact ischafli@mrpmcs.ca for more info and registration
URL:https://www.comservice.bc.ca/event/foundry-disordered-eating-group-session-3/
LOCATION:Foundry Ridge Meadows\, 22932 Lougheed Hwy. #2\, Maple Ridge\, British Columbia\, V2X 2W2\, Canada
CATEGORIES:Foundry Ridge Meadows
ATTACH;FMTTYPE=image/png:https://www.comservice.bc.ca/wp-content/uploads/2025/09/Untitled-design-28.png
END:VEVENT
END:VCALENDAR