BEGIN:VCALENDAR
VERSION:2.0
PRODID:-//Maple Ridge/Pitt Meadows Community Services - ECPv6.15.9//NONSGML v1.0//EN
CALSCALE:GREGORIAN
METHOD:PUBLISH
X-WR-CALNAME:Maple Ridge/Pitt Meadows Community Services
X-ORIGINAL-URL:https://www.comservice.bc.ca
X-WR-CALDESC:Events for Maple Ridge/Pitt Meadows Community Services
REFRESH-INTERVAL;VALUE=DURATION:PT1H
X-Robots-Tag:noindex
X-PUBLISHED-TTL:PT1H
BEGIN:VTIMEZONE
TZID:UTC
BEGIN:STANDARD
TZOFFSETFROM:+0000
TZOFFSETTO:+0000
TZNAME:UTC
DTSTART:20240101T000000
END:STANDARD
END:VTIMEZONE
BEGIN:VEVENT
DTSTART;TZID=UTC:20250614T100000
DTEND;TZID=UTC:20250614T140000
DTSTAMP:20260419T204855
CREATED:20250526T205437Z
LAST-MODIFIED:20250526T205438Z
UID:6154-1749895200-1749909600@www.comservice.bc.ca
SUMMARY:PRIDE in the Park (community event)
DESCRIPTION:Pride in the Park celebrates the incredible 2SLGBTQIA+ community in Maple Ridge. It’s a free and family-friendly event that features music\, games\, BBQ\, face painting\, and more.Our programs Alisa’s Wish Child & Youth Advocacy Centre\, Foundry Ridge Meadows\, and Child Care Resource & Referral (CCRR) will all be in attendance. Be sure to pay our booth a visit!
URL:https://www.comservice.bc.ca/event/pride-in-the-park-community-event/
LOCATION:Memorial Peace Park\, 11930 224th Street\, Maple Ridge\, British Columbia\, V2X 6A9\, Canada
CATEGORIES:Alisa's Wish Child & Youth Advocacy Centre,CCRR,Foundry Ridge Meadows
END:VEVENT
END:VCALENDAR